{"text_format":"1","workbook":"xlsx","n_sheets":3,"sheets":["TURMA EXEMPLO","ENG1530_A01 (impressão)","ENG1530_A02 (impressão)"],"not_rendered":{"charts":0,"images":1,"macros":1,"external_links":0,"defined_names":9,"comments":0,"pivot_tables":0},"unopened":[],"bounds":{"document_bytes":16777216,"sheet_cells":100000,"rows_first":2000,"rows_last":500,"rows_between":2000,"halvings":0,"cell_chars":16384,"cell_head_chars":4096},"cells_cut":0,"cells_raw":0,"read":"whole","date_system":"1900"}

{"sheet":"TURMA EXEMPLO","index":0,"n_rows":69,"n_cols":17,"rows_kept":69,"cut":false,"hidden":false,"merged":[]}
[null,null,null,null,null,null,null,6.8]
["Matricula","Nome","e-mail","1ª N1","2ª N1","N1","1ª N2","2ª N2","RN2","A.I.","N2",null,"MÉDIA FINAL",null,"e-mail N1","e-mail N2","Frequência"]
["2016.2.033.1234","Aluno Exemplo 01","aluno01@luisguilherme.com.br",4.9000000000000004,6.1,{"$f":"ROUND(SUM(D3:E3)/2,1)","v":5.5},4,5.4,{"$f":"ROUND((SUM(G3:H3)/2)*0.9,1)","v":4.2},0.7,{"$f":"I3+J3","v":4.9000000000000004},null,{"$f":"TRUNC((K3*0.6+F3*0.4),1)","v":5.0999999999999996},null,null,null,66]
["2016.2.033.1235","Aluno Exemplo 02","aluno02@luisguilherme.com.br",3.6,1.4,{"$f":"ROUND(SUM(D4:E4)/2,1)","v":2.5},1.7,2.9,2.1,0.7,{"$f":"I4+J4","v":2.8},null,2.6,null,null,null,58]
["2016.2.033.1236","Aluno Exemplo 03","aluno03@luisguilherme.com.br",1.6,1.8,1.7,6.1,4.5999999999999996,4.8,0.4,5.2,null,3.8,null,null,null,70]
["2016.2.033.1237","Aluno Exemplo 04","aluno04@luisguilherme.com.br",7.7,8.1999999999999993,8,4.3,2.9,3.2,0.1,3.3000000000000003,null,5.0999999999999996,null,null,null,56]
["2016.2.033.1238","Aluno Exemplo 05","aluno05@luisguilherme.com.br",9.1999999999999993,2.4,5.8,5.3,4.7,4.5,0.1,4.5999999999999996,null,5,null,null,null,72]
[null,null,null,null,null,0,null,null,0,null,0,null,0]
[null,null,null,null,null,0,null,null,0,null,0,null,0]
[null,null,null,null,null,0,null,null,0,null,0,null,0]
[null,null,null,null,null,0,null,null,0,null,0,null,0]
[null,null,null,null,null,0,null,null,0,null,0,null,0]
[null,null,null,null,null,0,null,null,0,null,0,null,0]
[null,null,null,null,null,0,null,null,0,null,0,null,0]
[null,null,null,null,null,0,null,null,0,null,0,null,0]
[null,null,null,null,null,0,null,null,0,null,0,null,0]
[null,null,null,null,null,0,null,null,0,null,0,null,0]
[null,null,null,null,null,0,null,null,0,null,0,null,0]
[null,null,null,null,null,0,null,null,0,null,0,null,0]
[null,null,null,null,null,0,null,null,0,null,0,null,0]
[null,null,null,null,null,0,null,null,0,null,0,null,0]
[null,null,null,null,null,0,null,null,0,null,0,null,0]
[null,null,null,null,null,0,null,null,0,null,0,null,0]
[null,null,null,null,null,0,null,null,0,null,0,null,0]
[null,null,null,null,null,0,null,null,0,null,0,null,0]
[null,null,null,null,null,0,null,null,0,null,0,null,0]
[null,null,null,null,null,0,null,null,0,null,0,null,0]
[null,null,null,null,null,0,null,null,0,null,0,null,0]
[null,null,null,null,null,0,null,null,0,null,0,null,0]
[null,null,null,null,null,0,null,null,0,null,0,null,0]
[null,null,null,null,null,0,null,null,0,null,0,null,0]
[null,null,null,null,null,0,null,null,0,null,0,null,0]
[null,null,null,null,null,0,null,null,0,null,0,null,0]
[null,null,null,null,null,0,null,null,0,null,0,null,0]
[null,null,null,null,null,0,null,null,{"$f":"ROUND((SUM(G35:H35)/2)*0.9,1)","v":0},null,0,null,{"$f":"TRUNC((K35*0.6+F35*0.4),1)","v":0}]
[null,null,null,null,null,0,null,null,0,null,0,null,0]
[null,null,null,null,null,0,null,null,0,null,0,null,0]
[null,null,null,null,null,0,null,null,0,null,0,null,0]
[null,null,null,null,null,0,null,null,0,null,0,null,0]
[null,null,null,null,null,0,null,null,0,null,0,null,0]
[null,null,null,null,null,0,null,null,0,null,0,null,0]
[null,null,null,null,null,0,null,null,0,null,0,null,0]
[null,null,null,null,null,0,null,null,0,null,0,null,0]
[null,null,null,null,null,0,null,null,0,null,0,null,0]
[null,null,null,null,null,0,null,null,0,null,0,null,0]
[null,null,null,null,null,0,null,null,0,null,0,null,0]
[null,null,null,null,null,0,null,null,0,null,0,null,0]
[null,null,null,null,null,0,null,null,0,null,0,null,0]
[null,null,null,null,null,0,null,null,0,null,0,null,0]
[null,null,null,null,null,0,null,null,0,null,0,null,0]
[null,null,null,null,null,0,null,null,0,null,0,null,0]
[null,null,null,null,null,0,null,null,0,null,0,null,0]
[null,null,null,null,null,0,null,null,0,null,0,null,0]
[null,null,null,null,null,0,null,null,0,null,0,null,0]
[null,null,null,null,null,0,null,null,0,null,0,null,0]
[null,null,null,null,null,0,null,null,0,null,0,null,0]
[null,null,null,null,null,0,null,null,0,null,0,null,0]
[null,null,null,null,null,0,null,null,0,null,0,null,0]
[null,null,null,null,null,0,null,null,0,null,0,null,0]
[null,null,null,null,null,0,null,null,0,null,0,null,0]
[null,null,null,null,null,0,null,null,0,null,0,null,0]
[null,null,null,null,null,0,null,null,0,null,0,null,0]
[null,null,null,null,null,0,null,null,0,null,0,null,0]
[]
[null,"MÉDIA DAS NOTAS",null,{"$f":"AVERAGE(D3:D63)","v":5.4},{"$f":"AVERAGE(E3:E63)","v":3.9799999999999995},{"$f":"SUM(F3:F63)/COUNTIF(F3:F63,\"<>0\")","v":4.7},{"$f":"AVERAGE(G3:G63)","v":4.28},{"$f":"AVERAGE(H3:H63)","v":4.0999999999999996},"-","-",{"$f":"SUM(K3:K63)/COUNTIF(K3:K63,\"<>0\")","v":4.1599999999999993},null,{"$f":"SUM(M3:M63)/COUNTIF(M3:M63,\"<>0\")","v":4.32}]
[null,"MAIOR NOTA",null,{"$f":"LARGE(D3:D63,1)","v":9.1999999999999993},{"$f":"LARGE(E3:E63,1)","v":8.1999999999999993},{"$f":"LARGE(F3:F63,1)","v":8},{"$f":"LARGE(G3:G63,1)","v":6.1},{"$f":"LARGE(H3:H63,1)","v":5.4},"-","-",{"$f":"LARGE(K3:K63,1)","v":5.2},null,{"$f":"LARGE(M3:M63,1)","v":5.0999999999999996}]
[null,"MENOR NOTA",null,{"$f":"SMALL(D3:D63,1)","v":1.6},{"$f":"SMALL(E3:E63,1)","v":1.4},{"$f":"SMALL(F3:F63,COUNTIF(F3:F63,0)+1)","v":1.7},{"$f":"SMALL(G3:G63,1)","v":1.7},{"$f":"SMALL(H3:H63,1)","v":2.9},"-","-",{"$f":"SMALL(K3:K63,COUNTIF(K3:K63,0)+1)","v":2.8},null,{"$f":"SMALL(M3:M63,COUNTIF(M3:M63,0)+1)","v":2.6}]
[null,"QTDE DE NOTAS ABAIXO DE 5,0",null,{"$f":"COUNTIF(D3:D63,\"<5\")","v":3},{"$f":"COUNTIF(E3:E63,\"<5\")","v":3},{"$f":"COUNTIFS(F3:F63,\"<5\",F3:F63,\"<>0\")","v":2},{"$f":"COUNTIF(G3:G63,\"<5\")","v":3},{"$f":"COUNTIF(H3:H63,\"<5\")","v":4},"-","-",{"$f":"COUNTIFS(K3:K63,\"<5\",K3:K63,\"<>0\")","v":4},null,{"$f":"COUNTIFS(M3:M63,\"<5\",M3:M63,\"<>0\")","v":2},{"$f":"M68/SUM($M$68:$M$69)","v":0.4}]
[null,"QTDE DE NOTAS ACIMA DE 5,0",null,{"$f":"COUNTIF(D3:D63,\">=5\")","v":2},{"$f":"COUNTIF(E3:E63,\">=5\")","v":2},{"$f":"COUNTIFS(F3:F63,\">=5\",F3:F63,\"<>0\")","v":3},{"$f":"COUNTIF(G3:G63,\">=5\")","v":2},{"$f":"COUNTIF(H3:H63,\">=5\")","v":1},"-","-",{"$f":"COUNTIFS(K3:K63,\">=5\",K3:K63,\"<>0\")","v":1},null,{"$f":"COUNTIF(M3:M63,\">=5\")","v":3},{"$f":"M69/SUM($M$68:$M$69)","v":0.6}]

{"sheet":"ENG1530_A01 (impressão)","index":1,"n_rows":62,"n_cols":13,"rows_kept":62,"cut":false,"hidden":true,"merged":[]}
[null,null,null,null,null,null,7.6]
["Matricula","Nome","1ª N1","2ª N1","N1","1ª N2","2ª N2","Est. Caso","RN2","A.I.","N2",null,"MÉDIA FINAL"]
["2008.1.025.3087 ","ALESSANDRA ARANTES REZIO",{"$f":"#REF!","v":{"$error":"#REF!"}},{"$f":"#REF!","v":{"$error":"#REF!"}},{"$f":"#REF!","v":{"$error":"#REF!"}},{"$f":"#REF!","v":{"$error":"#REF!"}},{"$f":"#REF!","v":{"$error":"#REF!"}},{"$f":"#REF!","v":{"$error":"#REF!"}},{"$f":"#REF!","v":{"$error":"#REF!"}},{"$f":"#REF!","v":{"$error":"#REF!"}},{"$f":"#REF!","v":{"$error":"#REF!"}},null,{"$f":"#REF!","v":{"$error":"#REF!"}}]
["2007.1.035.2976 ","ANDRE BAHIA REIS",{"$f":"#REF!","v":{"$error":"#REF!"}},{"$f":"#REF!","v":{"$error":"#REF!"}},{"$f":"#REF!","v":{"$error":"#REF!"}},{"$f":"#REF!","v":{"$error":"#REF!"}},{"$f":"#REF!","v":{"$error":"#REF!"}},{"$f":"#REF!","v":{"$error":"#REF!"}},{"$f":"#REF!","v":{"$error":"#REF!"}},{"$f":"#REF!","v":{"$error":"#REF!"}},{"$f":"#REF!","v":{"$error":"#REF!"}},null,{"$f":"#REF!","v":{"$error":"#REF!"}}]
["2012.1.035.0156 ","ARIANE MARTINS DA SILVA BIANO",{"$f":"#REF!","v":{"$error":"#REF!"}},{"$f":"#REF!","v":{"$error":"#REF!"}},{"$f":"#REF!","v":{"$error":"#REF!"}},{"$f":"#REF!","v":{"$error":"#REF!"}},{"$f":"#REF!","v":{"$error":"#REF!"}},{"$f":"#REF!","v":{"$error":"#REF!"}},{"$f":"#REF!","v":{"$error":"#REF!"}},{"$f":"#REF!","v":{"$error":"#REF!"}},{"$f":"#REF!","v":{"$error":"#REF!"}},null,{"$f":"#REF!","v":{"$error":"#REF!"}}]
["2009.2.025.0039 ","CAMILA NUNES PERILLO",{"$f":"#REF!","v":{"$error":"#REF!"}},{"$f":"#REF!","v":{"$error":"#REF!"}},{"$f":"#REF!","v":{"$error":"#REF!"}},{"$f":"#REF!","v":{"$error":"#REF!"}},{"$f":"#REF!","v":{"$error":"#REF!"}},{"$f":"#REF!","v":{"$error":"#REF!"}},{"$f":"#REF!","v":{"$error":"#REF!"}},{"$f":"#REF!","v":{"$error":"#REF!"}},{"$f":"#REF!","v":{"$error":"#REF!"}},null,{"$f":"#REF!","v":{"$error":"#REF!"}}]
["2011.1.025.0018 ","CAROLINE CAETANO ROSA ABREU",{"$f":"#REF!","v":{"$error":"#REF!"}},{"$f":"#REF!","v":{"$error":"#REF!"}},{"$f":"#REF!","v":{"$error":"#REF!"}},{"$f":"#REF!","v":{"$error":"#REF!"}},{"$f":"#REF!","v":{"$error":"#REF!"}},{"$f":"#REF!","v":{"$error":"#REF!"}},{"$f":"#REF!","v":{"$error":"#REF!"}},{"$f":"#REF!","v":{"$error":"#REF!"}},{"$f":"#REF!","v":{"$error":"#REF!"}},null,{"$f":"#REF!","v":{"$error":"#REF!"}}]
["2010.2.025.0341 ","DANIELLE PAINS DE CARVALHO",{"$f":"#REF!","v":{"$error":"#REF!"}},{"$f":"#REF!","v":{"$error":"#REF!"}},{"$f":"#REF!","v":{"$error":"#REF!"}},{"$f":"#REF!","v":{"$error":"#REF!"}},{"$f":"#REF!","v":{"$error":"#REF!"}},{"$f":"#REF!","v":{"$error":"#REF!"}},{"$f":"#REF!","v":{"$error":"#REF!"}},{"$f":"#REF!","v":{"$error":"#REF!"}},{"$f":"#REF!","v":{"$error":"#REF!"}},null,{"$f":"#REF!","v":{"$error":"#REF!"}}]
["2009.2.025.0173 ","DANILO AUGUSTO BATISTA MAGALHÃES",{"$f":"#REF!","v":{"$error":"#REF!"}},{"$f":"#REF!","v":{"$error":"#REF!"}},{"$f":"#REF!","v":{"$error":"#REF!"}},{"$f":"#REF!","v":{"$error":"#REF!"}},{"$f":"#REF!","v":{"$error":"#REF!"}},{"$f":"#REF!","v":{"$error":"#REF!"}},{"$f":"#REF!","v":{"$error":"#REF!"}},{"$f":"#REF!","v":{"$error":"#REF!"}},{"$f":"#REF!","v":{"$error":"#REF!"}},null,{"$f":"#REF!","v":{"$error":"#REF!"}}]
["2002.2.025.0660 ","DANILO PRADO DE OLIVEIRA",{"$f":"#REF!","v":{"$error":"#REF!"}},{"$f":"#REF!","v":{"$error":"#REF!"}},{"$f":"#REF!","v":{"$error":"#REF!"}},{"$f":"#REF!","v":{"$error":"#REF!"}},{"$f":"#REF!","v":{"$error":"#REF!"}},{"$f":"#REF!","v":{"$error":"#REF!"}},{"$f":"#REF!","v":{"$error":"#REF!"}},{"$f":"#REF!","v":{"$error":"#REF!"}},{"$f":"#REF!","v":{"$error":"#REF!"}},null,{"$f":"#REF!","v":{"$error":"#REF!"}}]
["2010.2.025.0547 ","DAVID HENRIQUE DE AZEVEDO ALVES",{"$f":"#REF!","v":{"$error":"#REF!"}},{"$f":"#REF!","v":{"$error":"#REF!"}},{"$f":"#REF!","v":{"$error":"#REF!"}},{"$f":"#REF!","v":{"$error":"#REF!"}},{"$f":"#REF!","v":{"$error":"#REF!"}},{"$f":"#REF!","v":{"$error":"#REF!"}},{"$f":"#REF!","v":{"$error":"#REF!"}},{"$f":"#REF!","v":{"$error":"#REF!"}},{"$f":"#REF!","v":{"$error":"#REF!"}},null,{"$f":"#REF!","v":{"$error":"#REF!"}}]
["2008.2.035.0007 ","DAYANE RAMOS PIMENTA",{"$f":"#REF!","v":{"$error":"#REF!"}},{"$f":"#REF!","v":{"$error":"#REF!"}},{"$f":"#REF!","v":{"$error":"#REF!"}},{"$f":"#REF!","v":{"$error":"#REF!"}},{"$f":"#REF!","v":{"$error":"#REF!"}},{"$f":"#REF!","v":{"$error":"#REF!"}},{"$f":"#REF!","v":{"$error":"#REF!"}},{"$f":"#REF!","v":{"$error":"#REF!"}},{"$f":"#REF!","v":{"$error":"#REF!"}},null,{"$f":"#REF!","v":{"$error":"#REF!"}}]
["2012.1.118.0141 ","DIOGO FERNANDES DE CARVALHO",{"$f":"#REF!","v":{"$error":"#REF!"}},{"$f":"#REF!","v":{"$error":"#REF!"}},{"$f":"#REF!","v":{"$error":"#REF!"}},{"$f":"#REF!","v":{"$error":"#REF!"}},{"$f":"#REF!","v":{"$error":"#REF!"}},{"$f":"#REF!","v":{"$error":"#REF!"}},{"$f":"#REF!","v":{"$error":"#REF!"}},{"$f":"#REF!","v":{"$error":"#REF!"}},{"$f":"#REF!","v":{"$error":"#REF!"}},null,{"$f":"#REF!","v":{"$error":"#REF!"}}]
["2007.1.025.3566 ","DIOGO RODRIGUES BORGES",{"$f":"#REF!","v":{"$error":"#REF!"}},{"$f":"#REF!","v":{"$error":"#REF!"}},{"$f":"#REF!","v":{"$error":"#REF!"}},{"$f":"#REF!","v":{"$error":"#REF!"}},{"$f":"#REF!","v":{"$error":"#REF!"}},{"$f":"#REF!","v":{"$error":"#REF!"}},{"$f":"#REF!","v":{"$error":"#REF!"}},{"$f":"#REF!","v":{"$error":"#REF!"}},{"$f":"#REF!","v":{"$error":"#REF!"}},null,{"$f":"#REF!","v":{"$error":"#REF!"}}]
["2009.1.035.0023 ","DORNIL ESPINDOLA COELHO NETO",{"$f":"#REF!","v":{"$error":"#REF!"}},{"$f":"#REF!","v":{"$error":"#REF!"}},{"$f":"#REF!","v":{"$error":"#REF!"}},{"$f":"#REF!","v":{"$error":"#REF!"}},{"$f":"#REF!","v":{"$error":"#REF!"}},{"$f":"#REF!","v":{"$error":"#REF!"}},{"$f":"#REF!","v":{"$error":"#REF!"}},{"$f":"#REF!","v":{"$error":"#REF!"}},{"$f":"#REF!","v":{"$error":"#REF!"}},null,{"$f":"#REF!","v":{"$error":"#REF!"}}]
["2010.1.118.0010 ","EDUARDO RESENDE SOUSA",{"$f":"#REF!","v":{"$error":"#REF!"}},{"$f":"#REF!","v":{"$error":"#REF!"}},{"$f":"#REF!","v":{"$error":"#REF!"}},{"$f":"#REF!","v":{"$error":"#REF!"}},{"$f":"#REF!","v":{"$error":"#REF!"}},{"$f":"#REF!","v":{"$error":"#REF!"}},{"$f":"#REF!","v":{"$error":"#REF!"}},{"$f":"#REF!","v":{"$error":"#REF!"}},{"$f":"#REF!","v":{"$error":"#REF!"}},null,{"$f":"#REF!","v":{"$error":"#REF!"}}]
["2008.1.038.2937 ","ELIO RODRIGUES DE FREITAS",{"$f":"#REF!","v":{"$error":"#REF!"}},{"$f":"#REF!","v":{"$error":"#REF!"}},{"$f":"#REF!","v":{"$error":"#REF!"}},{"$f":"#REF!","v":{"$error":"#REF!"}},{"$f":"#REF!","v":{"$error":"#REF!"}},{"$f":"#REF!","v":{"$error":"#REF!"}},{"$f":"#REF!","v":{"$error":"#REF!"}},{"$f":"#REF!","v":{"$error":"#REF!"}},{"$f":"#REF!","v":{"$error":"#REF!"}},null,{"$f":"#REF!","v":{"$error":"#REF!"}}]
["2009.1.025.0137 ","FERNANDA CARNEIRO DOS SANTOS",{"$f":"#REF!","v":{"$error":"#REF!"}},{"$f":"#REF!","v":{"$error":"#REF!"}},{"$f":"#REF!","v":{"$error":"#REF!"}},{"$f":"#REF!","v":{"$error":"#REF!"}},{"$f":"#REF!","v":{"$error":"#REF!"}},{"$f":"#REF!","v":{"$error":"#REF!"}},{"$f":"#REF!","v":{"$error":"#REF!"}},{"$f":"#REF!","v":{"$error":"#REF!"}},{"$f":"#REF!","v":{"$error":"#REF!"}},null,{"$f":"#REF!","v":{"$error":"#REF!"}}]
["2009.2.033.0077 ","FERNANDO LUCAS DE ASSIS BORGES",{"$f":"#REF!","v":{"$error":"#REF!"}},{"$f":"#REF!","v":{"$error":"#REF!"}},{"$f":"#REF!","v":{"$error":"#REF!"}},{"$f":"#REF!","v":{"$error":"#REF!"}},{"$f":"#REF!","v":{"$error":"#REF!"}},{"$f":"#REF!","v":{"$error":"#REF!"}},{"$f":"#REF!","v":{"$error":"#REF!"}},{"$f":"#REF!","v":{"$error":"#REF!"}},{"$f":"#REF!","v":{"$error":"#REF!"}},null,{"$f":"#REF!","v":{"$error":"#REF!"}}]
["2009.1.118.0118 ","GUILHERME REIS BRAZ",{"$f":"#REF!","v":{"$error":"#REF!"}},{"$f":"#REF!","v":{"$error":"#REF!"}},{"$f":"#REF!","v":{"$error":"#REF!"}},{"$f":"#REF!","v":{"$error":"#REF!"}},{"$f":"#REF!","v":{"$error":"#REF!"}},{"$f":"#REF!","v":{"$error":"#REF!"}},{"$f":"#REF!","v":{"$error":"#REF!"}},{"$f":"#REF!","v":{"$error":"#REF!"}},{"$f":"#REF!","v":{"$error":"#REF!"}},null,{"$f":"#REF!","v":{"$error":"#REF!"}}]
["2010.1.025.0167 ","GUSTAVO PEREIRA MATOS",{"$f":"#REF!","v":{"$error":"#REF!"}},{"$f":"#REF!","v":{"$error":"#REF!"}},{"$f":"#REF!","v":{"$error":"#REF!"}},{"$f":"#REF!","v":{"$error":"#REF!"}},{"$f":"#REF!","v":{"$error":"#REF!"}},{"$f":"#REF!","v":{"$error":"#REF!"}},{"$f":"#REF!","v":{"$error":"#REF!"}},{"$f":"#REF!","v":{"$error":"#REF!"}},{"$f":"#REF!","v":{"$error":"#REF!"}},null,{"$f":"#REF!","v":{"$error":"#REF!"}}]
["2010.2.025.0560 ","HENRIQUE CURADO SANTANA PIRES MORALES",{"$f":"#REF!","v":{"$error":"#REF!"}},{"$f":"#REF!","v":{"$error":"#REF!"}},{"$f":"#REF!","v":{"$error":"#REF!"}},{"$f":"#REF!","v":{"$error":"#REF!"}},{"$f":"#REF!","v":{"$error":"#REF!"}},{"$f":"#REF!","v":{"$error":"#REF!"}},{"$f":"#REF!","v":{"$error":"#REF!"}},{"$f":"#REF!","v":{"$error":"#REF!"}},{"$f":"#REF!","v":{"$error":"#REF!"}},null,{"$f":"#REF!","v":{"$error":"#REF!"}}]
["2010.2.025.0132 ","HUMBERTO DO CARMO",{"$f":"#REF!","v":{"$error":"#REF!"}},{"$f":"#REF!","v":{"$error":"#REF!"}},{"$f":"#REF!","v":{"$error":"#REF!"}},{"$f":"#REF!","v":{"$error":"#REF!"}},{"$f":"#REF!","v":{"$error":"#REF!"}},{"$f":"#REF!","v":{"$error":"#REF!"}},{"$f":"#REF!","v":{"$error":"#REF!"}},{"$f":"#REF!","v":{"$error":"#REF!"}},{"$f":"#REF!","v":{"$error":"#REF!"}},null,{"$f":"#REF!","v":{"$error":"#REF!"}}]
["2010.2.025.0287 ","IASMIN CARDOSO RIBEIRO",{"$f":"#REF!","v":{"$error":"#REF!"}},{"$f":"#REF!","v":{"$error":"#REF!"}},{"$f":"#REF!","v":{"$error":"#REF!"}},{"$f":"#REF!","v":{"$error":"#REF!"}},{"$f":"#REF!","v":{"$error":"#REF!"}},{"$f":"#REF!","v":{"$error":"#REF!"}},{"$f":"#REF!","v":{"$error":"#REF!"}},{"$f":"#REF!","v":{"$error":"#REF!"}},{"$f":"#REF!","v":{"$error":"#REF!"}},null,{"$f":"#REF!","v":{"$error":"#REF!"}}]
["2011.1.025.0059 ","JOÃO CARLOS MENDONÇA SANTOS",{"$f":"#REF!","v":{"$error":"#REF!"}},{"$f":"#REF!","v":{"$error":"#REF!"}},{"$f":"#REF!","v":{"$error":"#REF!"}},{"$f":"#REF!","v":{"$error":"#REF!"}},{"$f":"#REF!","v":{"$error":"#REF!"}},{"$f":"#REF!","v":{"$error":"#REF!"}},{"$f":"#REF!","v":{"$error":"#REF!"}},{"$f":"#REF!","v":{"$error":"#REF!"}},{"$f":"#REF!","v":{"$error":"#REF!"}},null,{"$f":"#REF!","v":{"$error":"#REF!"}}]
["2009.1.035.0154 ","KASSIA FRANCIELLY SOARES DE OLIVEIRA",{"$f":"#REF!","v":{"$error":"#REF!"}},{"$f":"#REF!","v":{"$error":"#REF!"}},{"$f":"#REF!","v":{"$error":"#REF!"}},{"$f":"#REF!","v":{"$error":"#REF!"}},{"$f":"#REF!","v":{"$error":"#REF!"}},{"$f":"#REF!","v":{"$error":"#REF!"}},{"$f":"#REF!","v":{"$error":"#REF!"}},{"$f":"#REF!","v":{"$error":"#REF!"}},{"$f":"#REF!","v":{"$error":"#REF!"}},null,{"$f":"#REF!","v":{"$error":"#REF!"}}]
["2009.1.035.0049 ","KEILANE DOS SANTOS VIEIRA",{"$f":"#REF!","v":{"$error":"#REF!"}},{"$f":"#REF!","v":{"$error":"#REF!"}},{"$f":"#REF!","v":{"$error":"#REF!"}},{"$f":"#REF!","v":{"$error":"#REF!"}},{"$f":"#REF!","v":{"$error":"#REF!"}},{"$f":"#REF!","v":{"$error":"#REF!"}},{"$f":"#REF!","v":{"$error":"#REF!"}},{"$f":"#REF!","v":{"$error":"#REF!"}},{"$f":"#REF!","v":{"$error":"#REF!"}},null,{"$f":"#REF!","v":{"$error":"#REF!"}}]
["2010.2.025.0356 ","LUCA MASSI SAHIUM",{"$f":"#REF!","v":{"$error":"#REF!"}},{"$f":"#REF!","v":{"$error":"#REF!"}},{"$f":"#REF!","v":{"$error":"#REF!"}},{"$f":"#REF!","v":{"$error":"#REF!"}},{"$f":"#REF!","v":{"$error":"#REF!"}},{"$f":"#REF!","v":{"$error":"#REF!"}},{"$f":"#REF!","v":{"$error":"#REF!"}},{"$f":"#REF!","v":{"$error":"#REF!"}},{"$f":"#REF!","v":{"$error":"#REF!"}},null,{"$f":"#REF!","v":{"$error":"#REF!"}}]
["2010.2.025.0158 ","LUCAS SPINELI SANTANA",{"$f":"#REF!","v":{"$error":"#REF!"}},{"$f":"#REF!","v":{"$error":"#REF!"}},{"$f":"#REF!","v":{"$error":"#REF!"}},{"$f":"#REF!","v":{"$error":"#REF!"}},{"$f":"#REF!","v":{"$error":"#REF!"}},{"$f":"#REF!","v":{"$error":"#REF!"}},{"$f":"#REF!","v":{"$error":"#REF!"}},{"$f":"#REF!","v":{"$error":"#REF!"}},{"$f":"#REF!","v":{"$error":"#REF!"}},null,{"$f":"#REF!","v":{"$error":"#REF!"}}]
["2010.1.025.0263 ","LUIS FERNANDO MACEDO PAZ",{"$f":"#REF!","v":{"$error":"#REF!"}},{"$f":"#REF!","v":{"$error":"#REF!"}},{"$f":"#REF!","v":{"$error":"#REF!"}},{"$f":"#REF!","v":{"$error":"#REF!"}},{"$f":"#REF!","v":{"$error":"#REF!"}},{"$f":"#REF!","v":{"$error":"#REF!"}},{"$f":"#REF!","v":{"$error":"#REF!"}},{"$f":"#REF!","v":{"$error":"#REF!"}},{"$f":"#REF!","v":{"$error":"#REF!"}},null,{"$f":"#REF!","v":{"$error":"#REF!"}}]
["2010.1.118.0068 ","LUIZ GONZAGA FERREIRA NETO",{"$f":"#REF!","v":{"$error":"#REF!"}},{"$f":"#REF!","v":{"$error":"#REF!"}},{"$f":"#REF!","v":{"$error":"#REF!"}},{"$f":"#REF!","v":{"$error":"#REF!"}},{"$f":"#REF!","v":{"$error":"#REF!"}},{"$f":"#REF!","v":{"$error":"#REF!"}},{"$f":"#REF!","v":{"$error":"#REF!"}},{"$f":"#REF!","v":{"$error":"#REF!"}},{"$f":"#REF!","v":{"$error":"#REF!"}},null,{"$f":"#REF!","v":{"$error":"#REF!"}}]
["2009.1.035.0066 ","LUYNA NICOLI SILVA",{"$f":"#REF!","v":{"$error":"#REF!"}},{"$f":"#REF!","v":{"$error":"#REF!"}},{"$f":"#REF!","v":{"$error":"#REF!"}},{"$f":"#REF!","v":{"$error":"#REF!"}},{"$f":"#REF!","v":{"$error":"#REF!"}},{"$f":"#REF!","v":{"$error":"#REF!"}},{"$f":"#REF!","v":{"$error":"#REF!"}},{"$f":"#REF!","v":{"$error":"#REF!"}},{"$f":"#REF!","v":{"$error":"#REF!"}},null,{"$f":"#REF!","v":{"$error":"#REF!"}}]
["2011.2.025.0465 ","MARCELO CAMARGO GALVÃO BARBOSA",{"$f":"#REF!","v":{"$error":"#REF!"}},{"$f":"#REF!","v":{"$error":"#REF!"}},{"$f":"#REF!","v":{"$error":"#REF!"}},{"$f":"#REF!","v":{"$error":"#REF!"}},{"$f":"#REF!","v":{"$error":"#REF!"}},{"$f":"#REF!","v":{"$error":"#REF!"}},{"$f":"#REF!","v":{"$error":"#REF!"}},{"$f":"#REF!","v":{"$error":"#REF!"}},{"$f":"#REF!","v":{"$error":"#REF!"}},null,{"$f":"#REF!","v":{"$error":"#REF!"}}]
["2009.1.025.0847 ","MARCOS AURÉLIO PRUDENTE PEREIRA FILHO",{"$f":"#REF!","v":{"$error":"#REF!"}},{"$f":"#REF!","v":{"$error":"#REF!"}},{"$f":"#REF!","v":{"$error":"#REF!"}},{"$f":"#REF!","v":{"$error":"#REF!"}},{"$f":"#REF!","v":{"$error":"#REF!"}},{"$f":"#REF!","v":{"$error":"#REF!"}},{"$f":"#REF!","v":{"$error":"#REF!"}},{"$f":"#REF!","v":{"$error":"#REF!"}},{"$f":"#REF!","v":{"$error":"#REF!"}},null,{"$f":"#REF!","v":{"$error":"#REF!"}}]
["2011.1.025.0335 ","MARCOS VINICIUS REIS BRETAS NETTO",{"$f":"#REF!","v":{"$error":"#REF!"}},{"$f":"#REF!","v":{"$error":"#REF!"}},{"$f":"#REF!","v":{"$error":"#REF!"}},{"$f":"#REF!","v":{"$error":"#REF!"}},{"$f":"#REF!","v":{"$error":"#REF!"}},{"$f":"#REF!","v":{"$error":"#REF!"}},{"$f":"#REF!","v":{"$error":"#REF!"}},{"$f":"#REF!","v":{"$error":"#REF!"}},{"$f":"#REF!","v":{"$error":"#REF!"}},null,{"$f":"#REF!","v":{"$error":"#REF!"}}]
["2008.2.025.0254 ","MARCUS VINICIUS COELHO BITTAR",{"$f":"#REF!","v":{"$error":"#REF!"}},{"$f":"#REF!","v":{"$error":"#REF!"}},{"$f":"#REF!","v":{"$error":"#REF!"}},{"$f":"#REF!","v":{"$error":"#REF!"}},{"$f":"#REF!","v":{"$error":"#REF!"}},{"$f":"#REF!","v":{"$error":"#REF!"}},{"$f":"#REF!","v":{"$error":"#REF!"}},{"$f":"#REF!","v":{"$error":"#REF!"}},{"$f":"#REF!","v":{"$error":"#REF!"}},null,{"$f":"#REF!","v":{"$error":"#REF!"}}]
["2009.1.035.0070 ","MARIANE BERNARDES GONÇALVES",{"$f":"#REF!","v":{"$error":"#REF!"}},{"$f":"#REF!","v":{"$error":"#REF!"}},{"$f":"#REF!","v":{"$error":"#REF!"}},{"$f":"#REF!","v":{"$error":"#REF!"}},{"$f":"#REF!","v":{"$error":"#REF!"}},{"$f":"#REF!","v":{"$error":"#REF!"}},{"$f":"#REF!","v":{"$error":"#REF!"}},{"$f":"#REF!","v":{"$error":"#REF!"}},{"$f":"#REF!","v":{"$error":"#REF!"}},null,{"$f":"#REF!","v":{"$error":"#REF!"}}]
["2011.2.025.0620 ","MAYCON GUILHERME MOTA DOS SANTOS",{"$f":"#REF!","v":{"$error":"#REF!"}},{"$f":"#REF!","v":{"$error":"#REF!"}},{"$f":"#REF!","v":{"$error":"#REF!"}},{"$f":"#REF!","v":{"$error":"#REF!"}},{"$f":"#REF!","v":{"$error":"#REF!"}},{"$f":"#REF!","v":{"$error":"#REF!"}},{"$f":"#REF!","v":{"$error":"#REF!"}},{"$f":"#REF!","v":{"$error":"#REF!"}},{"$f":"#REF!","v":{"$error":"#REF!"}},null,{"$f":"#REF!","v":{"$error":"#REF!"}}]
["2012.1.025.0419 ","PAULLA ISADORA DE SOUSA",{"$f":"#REF!","v":{"$error":"#REF!"}},{"$f":"#REF!","v":{"$error":"#REF!"}},{"$f":"#REF!","v":{"$error":"#REF!"}},{"$f":"#REF!","v":{"$error":"#REF!"}},{"$f":"#REF!","v":{"$error":"#REF!"}},{"$f":"#REF!","v":{"$error":"#REF!"}},{"$f":"#REF!","v":{"$error":"#REF!"}},{"$f":"#REF!","v":{"$error":"#REF!"}},{"$f":"#REF!","v":{"$error":"#REF!"}},null,{"$f":"#REF!","v":{"$error":"#REF!"}}]
["2010.2.025.0383 ","PEDRO DE PAULA LOPES MACEDO",{"$f":"#REF!","v":{"$error":"#REF!"}},{"$f":"#REF!","v":{"$error":"#REF!"}},{"$f":"#REF!","v":{"$error":"#REF!"}},{"$f":"#REF!","v":{"$error":"#REF!"}},{"$f":"#REF!","v":{"$error":"#REF!"}},{"$f":"#REF!","v":{"$error":"#REF!"}},{"$f":"#REF!","v":{"$error":"#REF!"}},{"$f":"#REF!","v":{"$error":"#REF!"}},{"$f":"#REF!","v":{"$error":"#REF!"}},null,{"$f":"#REF!","v":{"$error":"#REF!"}}]
["2009.1.029.0102 ","PEDRO HENRIQUE CAMPOS FARIA",{"$f":"#REF!","v":{"$error":"#REF!"}},{"$f":"#REF!","v":{"$error":"#REF!"}},{"$f":"#REF!","v":{"$error":"#REF!"}},{"$f":"#REF!","v":{"$error":"#REF!"}},{"$f":"#REF!","v":{"$error":"#REF!"}},{"$f":"#REF!","v":{"$error":"#REF!"}},{"$f":"#REF!","v":{"$error":"#REF!"}},{"$f":"#REF!","v":{"$error":"#REF!"}},{"$f":"#REF!","v":{"$error":"#REF!"}},null,{"$f":"#REF!","v":{"$error":"#REF!"}}]
["2011.2.025.0398 ","PEDRO HENRIQUE FURTADO DO NASCIMENTO",{"$f":"#REF!","v":{"$error":"#REF!"}},{"$f":"#REF!","v":{"$error":"#REF!"}},{"$f":"#REF!","v":{"$error":"#REF!"}},{"$f":"#REF!","v":{"$error":"#REF!"}},{"$f":"#REF!","v":{"$error":"#REF!"}},{"$f":"#REF!","v":{"$error":"#REF!"}},{"$f":"#REF!","v":{"$error":"#REF!"}},{"$f":"#REF!","v":{"$error":"#REF!"}},{"$f":"#REF!","v":{"$error":"#REF!"}},null,{"$f":"#REF!","v":{"$error":"#REF!"}}]
["2009.1.035.0092 ","PEDRO REZENDE MORAES",{"$f":"#REF!","v":{"$error":"#REF!"}},{"$f":"#REF!","v":{"$error":"#REF!"}},{"$f":"#REF!","v":{"$error":"#REF!"}},{"$f":"#REF!","v":{"$error":"#REF!"}},{"$f":"#REF!","v":{"$error":"#REF!"}},{"$f":"#REF!","v":{"$error":"#REF!"}},{"$f":"#REF!","v":{"$error":"#REF!"}},{"$f":"#REF!","v":{"$error":"#REF!"}},{"$f":"#REF!","v":{"$error":"#REF!"}},null,{"$f":"#REF!","v":{"$error":"#REF!"}}]
["2010.1.025.0334 ","PHILIPPE PABLO ARANTES PINHEIRO",{"$f":"#REF!","v":{"$error":"#REF!"}},{"$f":"#REF!","v":{"$error":"#REF!"}},{"$f":"#REF!","v":{"$error":"#REF!"}},{"$f":"#REF!","v":{"$error":"#REF!"}},{"$f":"#REF!","v":{"$error":"#REF!"}},{"$f":"#REF!","v":{"$error":"#REF!"}},{"$f":"#REF!","v":{"$error":"#REF!"}},{"$f":"#REF!","v":{"$error":"#REF!"}},{"$f":"#REF!","v":{"$error":"#REF!"}},null,{"$f":"#REF!","v":{"$error":"#REF!"}}]
["2007.1.038.4160 ","RAFAEL SOARES NOGUEIRA",{"$f":"#REF!","v":{"$error":"#REF!"}},{"$f":"#REF!","v":{"$error":"#REF!"}},{"$f":"#REF!","v":{"$error":"#REF!"}},{"$f":"#REF!","v":{"$error":"#REF!"}},{"$f":"#REF!","v":{"$error":"#REF!"}},{"$f":"#REF!","v":{"$error":"#REF!"}},{"$f":"#REF!","v":{"$error":"#REF!"}},{"$f":"#REF!","v":{"$error":"#REF!"}},{"$f":"#REF!","v":{"$error":"#REF!"}},null,{"$f":"#REF!","v":{"$error":"#REF!"}}]
["2011.2.025.0403 ","REINER RIBEIRO DE CARVALHO",{"$f":"#REF!","v":{"$error":"#REF!"}},{"$f":"#REF!","v":{"$error":"#REF!"}},{"$f":"#REF!","v":{"$error":"#REF!"}},{"$f":"#REF!","v":{"$error":"#REF!"}},{"$f":"#REF!","v":{"$error":"#REF!"}},{"$f":"#REF!","v":{"$error":"#REF!"}},{"$f":"#REF!","v":{"$error":"#REF!"}},{"$f":"#REF!","v":{"$error":"#REF!"}},{"$f":"#REF!","v":{"$error":"#REF!"}},null,{"$f":"#REF!","v":{"$error":"#REF!"}}]
["2009.1.035.0099 ","RENAN CARLOS DE ÁVILA",{"$f":"#REF!","v":{"$error":"#REF!"}},{"$f":"#REF!","v":{"$error":"#REF!"}},{"$f":"#REF!","v":{"$error":"#REF!"}},{"$f":"#REF!","v":{"$error":"#REF!"}},{"$f":"#REF!","v":{"$error":"#REF!"}},{"$f":"#REF!","v":{"$error":"#REF!"}},{"$f":"#REF!","v":{"$error":"#REF!"}},{"$f":"#REF!","v":{"$error":"#REF!"}},{"$f":"#REF!","v":{"$error":"#REF!"}},null,{"$f":"#REF!","v":{"$error":"#REF!"}}]
["2008.2.035.0043 ","RICARDO NASCIMENTO CORREA",{"$f":"#REF!","v":{"$error":"#REF!"}},{"$f":"#REF!","v":{"$error":"#REF!"}},{"$f":"#REF!","v":{"$error":"#REF!"}},{"$f":"#REF!","v":{"$error":"#REF!"}},{"$f":"#REF!","v":{"$error":"#REF!"}},{"$f":"#REF!","v":{"$error":"#REF!"}},{"$f":"#REF!","v":{"$error":"#REF!"}},{"$f":"#REF!","v":{"$error":"#REF!"}},{"$f":"#REF!","v":{"$error":"#REF!"}},null,{"$f":"#REF!","v":{"$error":"#REF!"}}]
["2010.1.038.0112 ","ROBERTO PETRONIO NAVES RIBEIRO",{"$f":"#REF!","v":{"$error":"#REF!"}},{"$f":"#REF!","v":{"$error":"#REF!"}},{"$f":"#REF!","v":{"$error":"#REF!"}},{"$f":"#REF!","v":{"$error":"#REF!"}},{"$f":"#REF!","v":{"$error":"#REF!"}},{"$f":"#REF!","v":{"$error":"#REF!"}},{"$f":"#REF!","v":{"$error":"#REF!"}},{"$f":"#REF!","v":{"$error":"#REF!"}},{"$f":"#REF!","v":{"$error":"#REF!"}},null,{"$f":"#REF!","v":{"$error":"#REF!"}}]
["2011.1.118.0042 ","RODRIGO DIAS LOUBAK TEIXEIRA",{"$f":"#REF!","v":{"$error":"#REF!"}},{"$f":"#REF!","v":{"$error":"#REF!"}},{"$f":"#REF!","v":{"$error":"#REF!"}},{"$f":"#REF!","v":{"$error":"#REF!"}},{"$f":"#REF!","v":{"$error":"#REF!"}},{"$f":"#REF!","v":{"$error":"#REF!"}},{"$f":"#REF!","v":{"$error":"#REF!"}},{"$f":"#REF!","v":{"$error":"#REF!"}},{"$f":"#REF!","v":{"$error":"#REF!"}},null,{"$f":"#REF!","v":{"$error":"#REF!"}}]
["2010.1.025.0372 ","ROGER XAVIER MILHOMEM PIRES",{"$f":"#REF!","v":{"$error":"#REF!"}},{"$f":"#REF!","v":{"$error":"#REF!"}},{"$f":"#REF!","v":{"$error":"#REF!"}},{"$f":"#REF!","v":{"$error":"#REF!"}},{"$f":"#REF!","v":{"$error":"#REF!"}},{"$f":"#REF!","v":{"$error":"#REF!"}},{"$f":"#REF!","v":{"$error":"#REF!"}},{"$f":"#REF!","v":{"$error":"#REF!"}},{"$f":"#REF!","v":{"$error":"#REF!"}},null,{"$f":"#REF!","v":{"$error":"#REF!"}}]
["2007.2.025.2260 ","TATIANY CANDIDO DO CARMO",{"$f":"#REF!","v":{"$error":"#REF!"}},{"$f":"#REF!","v":{"$error":"#REF!"}},{"$f":"#REF!","v":{"$error":"#REF!"}},{"$f":"#REF!","v":{"$error":"#REF!"}},{"$f":"#REF!","v":{"$error":"#REF!"}},{"$f":"#REF!","v":{"$error":"#REF!"}},{"$f":"#REF!","v":{"$error":"#REF!"}},{"$f":"#REF!","v":{"$error":"#REF!"}},{"$f":"#REF!","v":{"$error":"#REF!"}},null,{"$f":"#REF!","v":{"$error":"#REF!"}}]
["2011.2.025.0351 ","THÁGYLLA DE SOUZA OLIVEIRA ANDREATTA GONÇALVES",{"$f":"#REF!","v":{"$error":"#REF!"}},{"$f":"#REF!","v":{"$error":"#REF!"}},{"$f":"#REF!","v":{"$error":"#REF!"}},{"$f":"#REF!","v":{"$error":"#REF!"}},{"$f":"#REF!","v":{"$error":"#REF!"}},{"$f":"#REF!","v":{"$error":"#REF!"}},{"$f":"#REF!","v":{"$error":"#REF!"}},{"$f":"#REF!","v":{"$error":"#REF!"}},{"$f":"#REF!","v":{"$error":"#REF!"}},null,{"$f":"#REF!","v":{"$error":"#REF!"}}]
["2010.2.025.0373 ","THAYS ROBERTA LOPES",{"$f":"#REF!","v":{"$error":"#REF!"}},{"$f":"#REF!","v":{"$error":"#REF!"}},{"$f":"#REF!","v":{"$error":"#REF!"}},{"$f":"#REF!","v":{"$error":"#REF!"}},{"$f":"#REF!","v":{"$error":"#REF!"}},{"$f":"#REF!","v":{"$error":"#REF!"}},{"$f":"#REF!","v":{"$error":"#REF!"}},{"$f":"#REF!","v":{"$error":"#REF!"}},{"$f":"#REF!","v":{"$error":"#REF!"}},null,{"$f":"#REF!","v":{"$error":"#REF!"}}]
["2009.1.035.0249 ","THIAGO MOREIRA COSTA",{"$f":"#REF!","v":{"$error":"#REF!"}},{"$f":"#REF!","v":{"$error":"#REF!"}},{"$f":"#REF!","v":{"$error":"#REF!"}},{"$f":"#REF!","v":{"$error":"#REF!"}},{"$f":"#REF!","v":{"$error":"#REF!"}},{"$f":"#REF!","v":{"$error":"#REF!"}},{"$f":"#REF!","v":{"$error":"#REF!"}},{"$f":"#REF!","v":{"$error":"#REF!"}},{"$f":"#REF!","v":{"$error":"#REF!"}},null,{"$f":"#REF!","v":{"$error":"#REF!"}}]
["2009.1.038.0119 ","VICTOR HUGO JESUS",{"$f":"#REF!","v":{"$error":"#REF!"}},{"$f":"#REF!","v":{"$error":"#REF!"}},{"$f":"#REF!","v":{"$error":"#REF!"}},{"$f":"#REF!","v":{"$error":"#REF!"}},{"$f":"#REF!","v":{"$error":"#REF!"}},{"$f":"#REF!","v":{"$error":"#REF!"}},{"$f":"#REF!","v":{"$error":"#REF!"}},{"$f":"#REF!","v":{"$error":"#REF!"}},{"$f":"#REF!","v":{"$error":"#REF!"}},null,{"$f":"#REF!","v":{"$error":"#REF!"}}]
["2011.2.025.0249 ","VINICIUS SILVA GUIMARAES",{"$f":"#REF!","v":{"$error":"#REF!"}},{"$f":"#REF!","v":{"$error":"#REF!"}},{"$f":"#REF!","v":{"$error":"#REF!"}},{"$f":"#REF!","v":{"$error":"#REF!"}},{"$f":"#REF!","v":{"$error":"#REF!"}},{"$f":"#REF!","v":{"$error":"#REF!"}},{"$f":"#REF!","v":{"$error":"#REF!"}},{"$f":"#REF!","v":{"$error":"#REF!"}},{"$f":"#REF!","v":{"$error":"#REF!"}},null,{"$f":"#REF!","v":{"$error":"#REF!"}}]
["2009.1.025.0426 ","VITOR MAIA VIANNA",{"$f":"#REF!","v":{"$error":"#REF!"}},{"$f":"#REF!","v":{"$error":"#REF!"}},{"$f":"#REF!","v":{"$error":"#REF!"}},{"$f":"#REF!","v":{"$error":"#REF!"}},{"$f":"#REF!","v":{"$error":"#REF!"}},{"$f":"#REF!","v":{"$error":"#REF!"}},{"$f":"#REF!","v":{"$error":"#REF!"}},{"$f":"#REF!","v":{"$error":"#REF!"}},{"$f":"#REF!","v":{"$error":"#REF!"}},null,{"$f":"#REF!","v":{"$error":"#REF!"}}]
["2009.1.035.0189 ","VITOR SOUSA LOUSADA LOPES VIANA",{"$f":"#REF!","v":{"$error":"#REF!"}},{"$f":"#REF!","v":{"$error":"#REF!"}},{"$f":"#REF!","v":{"$error":"#REF!"}},{"$f":"#REF!","v":{"$error":"#REF!"}},{"$f":"#REF!","v":{"$error":"#REF!"}},{"$f":"#REF!","v":{"$error":"#REF!"}},{"$f":"#REF!","v":{"$error":"#REF!"}},{"$f":"#REF!","v":{"$error":"#REF!"}},{"$f":"#REF!","v":{"$error":"#REF!"}},null,{"$f":"#REF!","v":{"$error":"#REF!"}}]
["2009.1.035.0119 ","WANESSA GOMES RODRIGUES",{"$f":"#REF!","v":{"$error":"#REF!"}},{"$f":"#REF!","v":{"$error":"#REF!"}},{"$f":"#REF!","v":{"$error":"#REF!"}},{"$f":"#REF!","v":{"$error":"#REF!"}},{"$f":"#REF!","v":{"$error":"#REF!"}},{"$f":"#REF!","v":{"$error":"#REF!"}},{"$f":"#REF!","v":{"$error":"#REF!"}},{"$f":"#REF!","v":{"$error":"#REF!"}},{"$f":"#REF!","v":{"$error":"#REF!"}},null,{"$f":"#REF!","v":{"$error":"#REF!"}}]
["2010.2.025.0750 ","WESLEY DAVID LOIOLA CAMARGO",{"$f":"#REF!","v":{"$error":"#REF!"}},{"$f":"#REF!","v":{"$error":"#REF!"}},{"$f":"#REF!","v":{"$error":"#REF!"}},{"$f":"#REF!","v":{"$error":"#REF!"}},{"$f":"#REF!","v":{"$error":"#REF!"}},{"$f":"#REF!","v":{"$error":"#REF!"}},{"$f":"#REF!","v":{"$error":"#REF!"}},{"$f":"#REF!","v":{"$error":"#REF!"}},{"$f":"#REF!","v":{"$error":"#REF!"}},null,{"$f":"#REF!","v":{"$error":"#REF!"}}]
["2012.2.025.0494 ","WILSON HONORATO RODRIGUES NETO",{"$f":"#REF!","v":{"$error":"#REF!"}},{"$f":"#REF!","v":{"$error":"#REF!"}},{"$f":"#REF!","v":{"$error":"#REF!"}},{"$f":"#REF!","v":{"$error":"#REF!"}},{"$f":"#REF!","v":{"$error":"#REF!"}},{"$f":"#REF!","v":{"$error":"#REF!"}},{"$f":"#REF!","v":{"$error":"#REF!"}},{"$f":"#REF!","v":{"$error":"#REF!"}},{"$f":"#REF!","v":{"$error":"#REF!"}},null,{"$f":"#REF!","v":{"$error":"#REF!"}}]

{"sheet":"ENG1530_A02 (impressão)","index":2,"n_rows":63,"n_cols":13,"rows_kept":63,"cut":false,"hidden":true,"merged":[]}
[null,null,null,null,null,null,6.8]
["Matricula","Nome","1ª N1","2ª N1","N1","1ª N2","2ª N2","Est. Caso","RN2","A.I.","N2",null,"MÉDIA FINAL"]
["2012.2.025.0007 ","ADRIANA CARVALHO COIMBRA",{"$f":"'TURMA EXEMPLO'!D3","v":4.9000000000000004},{"$f":"'TURMA EXEMPLO'!E3","v":6.1},{"$f":"'TURMA EXEMPLO'!F3","v":5.5},{"$f":"'TURMA EXEMPLO'!G3","v":4},{"$f":"'TURMA EXEMPLO'!H3","v":5.4},{"$f":"'TURMA EXEMPLO'!#REF!","v":{"$error":"#REF!"}},{"$f":"'TURMA EXEMPLO'!I3","v":4.2},{"$f":"'TURMA EXEMPLO'!J3","v":0.7},{"$f":"'TURMA EXEMPLO'!K3","v":4.9000000000000004},null,{"$f":"'TURMA EXEMPLO'!M3","v":5.0999999999999996}]
["2009.1.025.0442 ","ADRIANO RODRIGUES SIMAO",{"$f":"'TURMA EXEMPLO'!D4","v":3.6},{"$f":"'TURMA EXEMPLO'!E4","v":1.4},{"$f":"'TURMA EXEMPLO'!F4","v":2.5},{"$f":"'TURMA EXEMPLO'!G4","v":1.7},{"$f":"'TURMA EXEMPLO'!H4","v":2.9},{"$f":"'TURMA EXEMPLO'!#REF!","v":{"$error":"#REF!"}},{"$f":"'TURMA EXEMPLO'!I4","v":2.1},{"$f":"'TURMA EXEMPLO'!J4","v":0.7},{"$f":"'TURMA EXEMPLO'!K4","v":2.8},null,{"$f":"'TURMA EXEMPLO'!M4","v":2.6}]
["2009.1.029.0061 ","ALAISE JUREMA GUIMARÃES DOS SANTOS",{"$f":"'TURMA EXEMPLO'!D5","v":1.6},{"$f":"'TURMA EXEMPLO'!E5","v":1.8},{"$f":"'TURMA EXEMPLO'!F5","v":1.7},{"$f":"'TURMA EXEMPLO'!G5","v":6.1},{"$f":"'TURMA EXEMPLO'!H5","v":4.5999999999999996},{"$f":"'TURMA EXEMPLO'!#REF!","v":{"$error":"#REF!"}},{"$f":"'TURMA EXEMPLO'!I5","v":4.8},{"$f":"'TURMA EXEMPLO'!J5","v":0.4},{"$f":"'TURMA EXEMPLO'!K5","v":5.2},null,{"$f":"'TURMA EXEMPLO'!M5","v":3.8}]
["2010.2.118.0004 ","ALEXANDRE ROSSE GUIOTTI",{"$f":"'TURMA EXEMPLO'!D6","v":7.7},{"$f":"'TURMA EXEMPLO'!E6","v":8.1999999999999993},{"$f":"'TURMA EXEMPLO'!F6","v":8},{"$f":"'TURMA EXEMPLO'!G6","v":4.3},{"$f":"'TURMA EXEMPLO'!H6","v":2.9},{"$f":"'TURMA EXEMPLO'!#REF!","v":{"$error":"#REF!"}},{"$f":"'TURMA EXEMPLO'!I6","v":3.2},{"$f":"'TURMA EXEMPLO'!J6","v":0.1},{"$f":"'TURMA EXEMPLO'!K6","v":3.3000000000000003},null,{"$f":"'TURMA EXEMPLO'!M6","v":5.0999999999999996}]
["2009.2.025.0001 ","ANA CAROLINA OLIVEIRA PAIVA",{"$f":"'TURMA EXEMPLO'!D7","v":9.1999999999999993},{"$f":"'TURMA EXEMPLO'!E7","v":2.4},{"$f":"'TURMA EXEMPLO'!F7","v":5.8},{"$f":"'TURMA EXEMPLO'!G7","v":5.3},{"$f":"'TURMA EXEMPLO'!H7","v":4.7},{"$f":"'TURMA EXEMPLO'!#REF!","v":{"$error":"#REF!"}},{"$f":"'TURMA EXEMPLO'!I7","v":4.5},{"$f":"'TURMA EXEMPLO'!J7","v":0.1},{"$f":"'TURMA EXEMPLO'!K7","v":4.5999999999999996},null,{"$f":"'TURMA EXEMPLO'!M7","v":5}]
["2009.1.025.0039 ","ANDRÉ DE SOUZA RIBEIRO",{"$f":"'TURMA EXEMPLO'!D8","v":0},{"$f":"'TURMA EXEMPLO'!E8","v":0},{"$f":"'TURMA EXEMPLO'!F8","v":0},{"$f":"'TURMA EXEMPLO'!G8","v":0},{"$f":"'TURMA EXEMPLO'!H8","v":0},{"$f":"'TURMA EXEMPLO'!#REF!","v":{"$error":"#REF!"}},{"$f":"'TURMA EXEMPLO'!I8","v":0},{"$f":"'TURMA EXEMPLO'!J8","v":0},{"$f":"'TURMA EXEMPLO'!K8","v":0},null,{"$f":"'TURMA EXEMPLO'!M8","v":0}]
["2011.1.025.0156 ","ANNA CECILIA MILLER",{"$f":"'TURMA EXEMPLO'!D9","v":0},{"$f":"'TURMA EXEMPLO'!E9","v":0},{"$f":"'TURMA EXEMPLO'!F9","v":0},{"$f":"'TURMA EXEMPLO'!G9","v":0},{"$f":"'TURMA EXEMPLO'!H9","v":0},{"$f":"'TURMA EXEMPLO'!#REF!","v":{"$error":"#REF!"}},{"$f":"'TURMA EXEMPLO'!I9","v":0},{"$f":"'TURMA EXEMPLO'!J9","v":0},{"$f":"'TURMA EXEMPLO'!K9","v":0},null,{"$f":"'TURMA EXEMPLO'!M9","v":0}]
["2009.1.025.0461 ","BARBARA MUNIZ YANO",{"$f":"'TURMA EXEMPLO'!D10","v":0},{"$f":"'TURMA EXEMPLO'!E10","v":0},{"$f":"'TURMA EXEMPLO'!F10","v":0},{"$f":"'TURMA EXEMPLO'!G10","v":0},{"$f":"'TURMA EXEMPLO'!H10","v":0},{"$f":"'TURMA EXEMPLO'!#REF!","v":{"$error":"#REF!"}},{"$f":"'TURMA EXEMPLO'!I10","v":0},{"$f":"'TURMA EXEMPLO'!J10","v":0},{"$f":"'TURMA EXEMPLO'!K10","v":0},null,{"$f":"'TURMA EXEMPLO'!M10","v":0}]
["2009.1.025.0056 ","BRENO UCHOA BENAVENTE BLACUTT",{"$f":"'TURMA EXEMPLO'!D11","v":0},{"$f":"'TURMA EXEMPLO'!E11","v":0},{"$f":"'TURMA EXEMPLO'!F11","v":0},{"$f":"'TURMA EXEMPLO'!G11","v":0},{"$f":"'TURMA EXEMPLO'!H11","v":0},{"$f":"'TURMA EXEMPLO'!#REF!","v":{"$error":"#REF!"}},{"$f":"'TURMA EXEMPLO'!I11","v":0},{"$f":"'TURMA EXEMPLO'!J11","v":0},{"$f":"'TURMA EXEMPLO'!K11","v":0},null,{"$f":"'TURMA EXEMPLO'!M11","v":0}]
["2008.2.025.0042 ","BRUNA LORHANA MARTINS MANRIQUE",{"$f":"'TURMA EXEMPLO'!D12","v":0},{"$f":"'TURMA EXEMPLO'!E12","v":0},{"$f":"'TURMA EXEMPLO'!F12","v":0},{"$f":"'TURMA EXEMPLO'!G12","v":0},{"$f":"'TURMA EXEMPLO'!H12","v":0},{"$f":"'TURMA EXEMPLO'!#REF!","v":{"$error":"#REF!"}},{"$f":"'TURMA EXEMPLO'!I12","v":0},{"$f":"'TURMA EXEMPLO'!J12","v":0},{"$f":"'TURMA EXEMPLO'!K12","v":0},null,{"$f":"'TURMA EXEMPLO'!M12","v":0}]
["2010.1.025.0464 ","CAIO EDUARDO EVANGELISTA GOMES",{"$f":"'TURMA EXEMPLO'!D13","v":0},{"$f":"'TURMA EXEMPLO'!E13","v":0},{"$f":"'TURMA EXEMPLO'!F13","v":0},{"$f":"'TURMA EXEMPLO'!G13","v":0},{"$f":"'TURMA EXEMPLO'!H13","v":0},{"$f":"'TURMA EXEMPLO'!#REF!","v":{"$error":"#REF!"}},{"$f":"'TURMA EXEMPLO'!I13","v":0},{"$f":"'TURMA EXEMPLO'!J13","v":0},{"$f":"'TURMA EXEMPLO'!K13","v":0},null,{"$f":"'TURMA EXEMPLO'!M13","v":0}]
["2008.2.029.0011 ","CAMILA CARVALHO COLU MOHAMAD SALAMA",{"$f":"'TURMA EXEMPLO'!D14","v":0},{"$f":"'TURMA EXEMPLO'!E14","v":0},{"$f":"'TURMA EXEMPLO'!F14","v":0},{"$f":"'TURMA EXEMPLO'!G14","v":0},{"$f":"'TURMA EXEMPLO'!H14","v":0},{"$f":"'TURMA EXEMPLO'!#REF!","v":{"$error":"#REF!"}},{"$f":"'TURMA EXEMPLO'!I14","v":0},{"$f":"'TURMA EXEMPLO'!J14","v":0},{"$f":"'TURMA EXEMPLO'!K14","v":0},null,{"$f":"'TURMA EXEMPLO'!M14","v":0}]
["2009.1.025.0072 ","CECÍLE GUIMARÃES ULHÔA",{"$f":"'TURMA EXEMPLO'!D15","v":0},{"$f":"'TURMA EXEMPLO'!E15","v":0},{"$f":"'TURMA EXEMPLO'!F15","v":0},{"$f":"'TURMA EXEMPLO'!G15","v":0},{"$f":"'TURMA EXEMPLO'!H15","v":0},{"$f":"'TURMA EXEMPLO'!#REF!","v":{"$error":"#REF!"}},{"$f":"'TURMA EXEMPLO'!I15","v":0},{"$f":"'TURMA EXEMPLO'!J15","v":0},{"$f":"'TURMA EXEMPLO'!K15","v":0},null,{"$f":"'TURMA EXEMPLO'!M15","v":0}]
["2010.1.025.0008 ","DANIELLE BORGES NAVES CANÇADO",{"$f":"'TURMA EXEMPLO'!D16","v":0},{"$f":"'TURMA EXEMPLO'!E16","v":0},{"$f":"'TURMA EXEMPLO'!F16","v":0},{"$f":"'TURMA EXEMPLO'!G16","v":0},{"$f":"'TURMA EXEMPLO'!H16","v":0},{"$f":"'TURMA EXEMPLO'!#REF!","v":{"$error":"#REF!"}},{"$f":"'TURMA EXEMPLO'!I16","v":0},{"$f":"'TURMA EXEMPLO'!J16","v":0},{"$f":"'TURMA EXEMPLO'!K16","v":0},null,{"$f":"'TURMA EXEMPLO'!M16","v":0}]
["2009.1.025.0089 ","DANILO SIMON FONSECA PEDROSO",{"$f":"'TURMA EXEMPLO'!D17","v":0},{"$f":"'TURMA EXEMPLO'!E17","v":0},{"$f":"'TURMA EXEMPLO'!F17","v":0},{"$f":"'TURMA EXEMPLO'!G17","v":0},{"$f":"'TURMA EXEMPLO'!H17","v":0},{"$f":"'TURMA EXEMPLO'!#REF!","v":{"$error":"#REF!"}},{"$f":"'TURMA EXEMPLO'!I17","v":0},{"$f":"'TURMA EXEMPLO'!J17","v":0},{"$f":"'TURMA EXEMPLO'!K17","v":0},null,{"$f":"'TURMA EXEMPLO'!M17","v":0}]
["2009.1.025.0094 ","DIEGO ARAUJO",{"$f":"'TURMA EXEMPLO'!D18","v":0},{"$f":"'TURMA EXEMPLO'!E18","v":0},{"$f":"'TURMA EXEMPLO'!F18","v":0},{"$f":"'TURMA EXEMPLO'!G18","v":0},{"$f":"'TURMA EXEMPLO'!H18","v":0},{"$f":"'TURMA EXEMPLO'!#REF!","v":{"$error":"#REF!"}},{"$f":"'TURMA EXEMPLO'!I18","v":0},{"$f":"'TURMA EXEMPLO'!J18","v":0},{"$f":"'TURMA EXEMPLO'!K18","v":0},null,{"$f":"'TURMA EXEMPLO'!M18","v":0}]
["2009.1.025.0099 ","DIOGO LIMA GUIMARÃES",{"$f":"'TURMA EXEMPLO'!D19","v":0},{"$f":"'TURMA EXEMPLO'!E19","v":0},{"$f":"'TURMA EXEMPLO'!F19","v":0},{"$f":"'TURMA EXEMPLO'!G19","v":0},{"$f":"'TURMA EXEMPLO'!H19","v":0},{"$f":"'TURMA EXEMPLO'!#REF!","v":{"$error":"#REF!"}},{"$f":"'TURMA EXEMPLO'!I19","v":0},{"$f":"'TURMA EXEMPLO'!J19","v":0},{"$f":"'TURMA EXEMPLO'!K19","v":0},null,{"$f":"'TURMA EXEMPLO'!M19","v":0}]
["2009.1.025.0127 ","ERLUCIVÂNIA BUENO DA SILVA",{"$f":"'TURMA EXEMPLO'!D20","v":0},{"$f":"'TURMA EXEMPLO'!E20","v":0},{"$f":"'TURMA EXEMPLO'!F20","v":0},{"$f":"'TURMA EXEMPLO'!G20","v":0},{"$f":"'TURMA EXEMPLO'!H20","v":0},{"$f":"'TURMA EXEMPLO'!#REF!","v":{"$error":"#REF!"}},{"$f":"'TURMA EXEMPLO'!I20","v":0},{"$f":"'TURMA EXEMPLO'!J20","v":0},{"$f":"'TURMA EXEMPLO'!K20","v":0},null,{"$f":"'TURMA EXEMPLO'!M20","v":0}]
["2009.1.025.0134 ","FELIPE RODRIGUES DE MELO",{"$f":"'TURMA EXEMPLO'!D21","v":0},{"$f":"'TURMA EXEMPLO'!E21","v":0},{"$f":"'TURMA EXEMPLO'!F21","v":0},{"$f":"'TURMA EXEMPLO'!G21","v":0},{"$f":"'TURMA EXEMPLO'!H21","v":0},{"$f":"'TURMA EXEMPLO'!#REF!","v":{"$error":"#REF!"}},{"$f":"'TURMA EXEMPLO'!I21","v":0},{"$f":"'TURMA EXEMPLO'!J21","v":0},{"$f":"'TURMA EXEMPLO'!K21","v":0},null,{"$f":"'TURMA EXEMPLO'!M21","v":0}]
["2009.2.025.0214 ","FERNANDA PEDROSO CAIXETA",{"$f":"'TURMA EXEMPLO'!D22","v":0},{"$f":"'TURMA EXEMPLO'!E22","v":0},{"$f":"'TURMA EXEMPLO'!F22","v":0},{"$f":"'TURMA EXEMPLO'!G22","v":0},{"$f":"'TURMA EXEMPLO'!H22","v":0},{"$f":"'TURMA EXEMPLO'!#REF!","v":{"$error":"#REF!"}},{"$f":"'TURMA EXEMPLO'!I22","v":0},{"$f":"'TURMA EXEMPLO'!J22","v":0},{"$f":"'TURMA EXEMPLO'!K22","v":0},null,{"$f":"'TURMA EXEMPLO'!M22","v":0}]
["2010.1.025.0146 ","GABRIELLA RIBEIRO MOTTA",{"$f":"'TURMA EXEMPLO'!D23","v":0},{"$f":"'TURMA EXEMPLO'!E23","v":0},{"$f":"'TURMA EXEMPLO'!F23","v":0},{"$f":"'TURMA EXEMPLO'!G23","v":0},{"$f":"'TURMA EXEMPLO'!H23","v":0},{"$f":"'TURMA EXEMPLO'!#REF!","v":{"$error":"#REF!"}},{"$f":"'TURMA EXEMPLO'!I23","v":0},{"$f":"'TURMA EXEMPLO'!J23","v":0},{"$f":"'TURMA EXEMPLO'!K23","v":0},null,{"$f":"'TURMA EXEMPLO'!M23","v":0}]
["2009.1.025.0626 ","GUILHERME ARAUJO NAVES",{"$f":"'TURMA EXEMPLO'!D24","v":0},{"$f":"'TURMA EXEMPLO'!E24","v":0},{"$f":"'TURMA EXEMPLO'!F24","v":0},{"$f":"'TURMA EXEMPLO'!G24","v":0},{"$f":"'TURMA EXEMPLO'!H24","v":0},{"$f":"'TURMA EXEMPLO'!#REF!","v":{"$error":"#REF!"}},{"$f":"'TURMA EXEMPLO'!I24","v":0},{"$f":"'TURMA EXEMPLO'!J24","v":0},{"$f":"'TURMA EXEMPLO'!K24","v":0},null,{"$f":"'TURMA EXEMPLO'!M24","v":0}]
["2009.1.025.0171 ","GUILHERME RODRIGUES ADORNO",{"$f":"'TURMA EXEMPLO'!D25","v":0},{"$f":"'TURMA EXEMPLO'!E25","v":0},{"$f":"'TURMA EXEMPLO'!F25","v":0},{"$f":"'TURMA EXEMPLO'!G25","v":0},{"$f":"'TURMA EXEMPLO'!H25","v":0},{"$f":"'TURMA EXEMPLO'!#REF!","v":{"$error":"#REF!"}},{"$f":"'TURMA EXEMPLO'!I25","v":0},{"$f":"'TURMA EXEMPLO'!J25","v":0},{"$f":"'TURMA EXEMPLO'!K25","v":0},null,{"$f":"'TURMA EXEMPLO'!M25","v":0}]
["2012.1.025.0703 ","GUSTAVO PINTO DOS SANTOS",{"$f":"'TURMA EXEMPLO'!D26","v":0},{"$f":"'TURMA EXEMPLO'!E26","v":0},{"$f":"'TURMA EXEMPLO'!F26","v":0},{"$f":"'TURMA EXEMPLO'!G26","v":0},{"$f":"'TURMA EXEMPLO'!H26","v":0},{"$f":"'TURMA EXEMPLO'!#REF!","v":{"$error":"#REF!"}},{"$f":"'TURMA EXEMPLO'!I26","v":0},{"$f":"'TURMA EXEMPLO'!J26","v":0},{"$f":"'TURMA EXEMPLO'!K26","v":0},null,{"$f":"'TURMA EXEMPLO'!M26","v":0}]
["2009.1.029.0013 ","HELEN CAROLINE MATIAS FARIA",{"$f":"'TURMA EXEMPLO'!D27","v":0},{"$f":"'TURMA EXEMPLO'!E27","v":0},{"$f":"'TURMA EXEMPLO'!F27","v":0},{"$f":"'TURMA EXEMPLO'!G27","v":0},{"$f":"'TURMA EXEMPLO'!H27","v":0},{"$f":"'TURMA EXEMPLO'!#REF!","v":{"$error":"#REF!"}},{"$f":"'TURMA EXEMPLO'!I27","v":0},{"$f":"'TURMA EXEMPLO'!J27","v":0},{"$f":"'TURMA EXEMPLO'!K27","v":0},null,{"$f":"'TURMA EXEMPLO'!M27","v":0}]
["2009.1.025.0186 ","HENRIQUE PALMER RODRIGUES ROLIM",{"$f":"'TURMA EXEMPLO'!D28","v":0},{"$f":"'TURMA EXEMPLO'!E28","v":0},{"$f":"'TURMA EXEMPLO'!F28","v":0},{"$f":"'TURMA EXEMPLO'!G28","v":0},{"$f":"'TURMA EXEMPLO'!H28","v":0},{"$f":"'TURMA EXEMPLO'!#REF!","v":{"$error":"#REF!"}},{"$f":"'TURMA EXEMPLO'!I28","v":0},{"$f":"'TURMA EXEMPLO'!J28","v":0},{"$f":"'TURMA EXEMPLO'!K28","v":0},null,{"$f":"'TURMA EXEMPLO'!M28","v":0}]
["2009.1.025.0190 ","HUDSON WALLICY FONSECA SILVA",{"$f":"'TURMA EXEMPLO'!D29","v":0},{"$f":"'TURMA EXEMPLO'!E29","v":0},{"$f":"'TURMA EXEMPLO'!F29","v":0},{"$f":"'TURMA EXEMPLO'!G29","v":0},{"$f":"'TURMA EXEMPLO'!H29","v":0},{"$f":"'TURMA EXEMPLO'!#REF!","v":{"$error":"#REF!"}},{"$f":"'TURMA EXEMPLO'!I29","v":0},{"$f":"'TURMA EXEMPLO'!J29","v":0},{"$f":"'TURMA EXEMPLO'!K29","v":0},null,{"$f":"'TURMA EXEMPLO'!M29","v":0}]
["2001.2.025.0209 ","IEDA DE OLIVEIRA LOUZA",{"$f":"'TURMA EXEMPLO'!D30","v":0},{"$f":"'TURMA EXEMPLO'!E30","v":0},{"$f":"'TURMA EXEMPLO'!F30","v":0},{"$f":"'TURMA EXEMPLO'!G30","v":0},{"$f":"'TURMA EXEMPLO'!H30","v":0},{"$f":"'TURMA EXEMPLO'!#REF!","v":{"$error":"#REF!"}},{"$f":"'TURMA EXEMPLO'!I30","v":0},{"$f":"'TURMA EXEMPLO'!J30","v":0},{"$f":"'TURMA EXEMPLO'!K30","v":0},null,{"$f":"'TURMA EXEMPLO'!M30","v":0}]
["2010.2.025.0139 ","ISABELA GODOY DE SOUZA",{"$f":"'TURMA EXEMPLO'!D31","v":0},{"$f":"'TURMA EXEMPLO'!E31","v":0},{"$f":"'TURMA EXEMPLO'!F31","v":0},{"$f":"'TURMA EXEMPLO'!G31","v":0},{"$f":"'TURMA EXEMPLO'!H31","v":0},{"$f":"'TURMA EXEMPLO'!#REF!","v":{"$error":"#REF!"}},{"$f":"'TURMA EXEMPLO'!I31","v":0},{"$f":"'TURMA EXEMPLO'!J31","v":0},{"$f":"'TURMA EXEMPLO'!K31","v":0},null,{"$f":"'TURMA EXEMPLO'!M31","v":0}]
["2010.1.025.0185 ","JANDER SEBASTIAO DE GOUVEIA FRANCO FILHO",{"$f":"'TURMA EXEMPLO'!D32","v":0},{"$f":"'TURMA EXEMPLO'!E32","v":0},{"$f":"'TURMA EXEMPLO'!F32","v":0},{"$f":"'TURMA EXEMPLO'!G32","v":0},{"$f":"'TURMA EXEMPLO'!H32","v":0},{"$f":"'TURMA EXEMPLO'!#REF!","v":{"$error":"#REF!"}},{"$f":"'TURMA EXEMPLO'!I32","v":0},{"$f":"'TURMA EXEMPLO'!J32","v":0},{"$f":"'TURMA EXEMPLO'!K32","v":0},null,{"$f":"'TURMA EXEMPLO'!M32","v":0}]
["2008.2.029.0019 ","JESSICA FRANCIANE COSTA RIBEIRO",{"$f":"'TURMA EXEMPLO'!D33","v":0},{"$f":"'TURMA EXEMPLO'!E33","v":0},{"$f":"'TURMA EXEMPLO'!F33","v":0},{"$f":"'TURMA EXEMPLO'!G33","v":0},{"$f":"'TURMA EXEMPLO'!H33","v":0},{"$f":"'TURMA EXEMPLO'!#REF!","v":{"$error":"#REF!"}},{"$f":"'TURMA EXEMPLO'!I33","v":0},{"$f":"'TURMA EXEMPLO'!J33","v":0},{"$f":"'TURMA EXEMPLO'!K33","v":0},null,{"$f":"'TURMA EXEMPLO'!M33","v":0}]
["2009.1.025.0518 ","JESSIKA GARCIA BRITO",{"$f":"'TURMA EXEMPLO'!D34","v":0},{"$f":"'TURMA EXEMPLO'!E34","v":0},{"$f":"'TURMA EXEMPLO'!F34","v":0},{"$f":"'TURMA EXEMPLO'!G34","v":0},{"$f":"'TURMA EXEMPLO'!H34","v":0},{"$f":"'TURMA EXEMPLO'!#REF!","v":{"$error":"#REF!"}},{"$f":"'TURMA EXEMPLO'!I34","v":0},{"$f":"'TURMA EXEMPLO'!J34","v":0},{"$f":"'TURMA EXEMPLO'!K34","v":0},null,{"$f":"'TURMA EXEMPLO'!M34","v":0}]
["2009.1.025.0778 ","JOAO FELIPE RODRIGUES DA SILVA",{"$f":"'TURMA EXEMPLO'!D35","v":0},{"$f":"'TURMA EXEMPLO'!E35","v":0},{"$f":"'TURMA EXEMPLO'!F35","v":0},{"$f":"'TURMA EXEMPLO'!G35","v":0},{"$f":"'TURMA EXEMPLO'!H35","v":0},{"$f":"'TURMA EXEMPLO'!#REF!","v":{"$error":"#REF!"}},{"$f":"'TURMA EXEMPLO'!I35","v":0},{"$f":"'TURMA EXEMPLO'!J35","v":0},{"$f":"'TURMA EXEMPLO'!K35","v":0},null,{"$f":"'TURMA EXEMPLO'!M35","v":0}]
["2010.1.025.0855 ","JOAO VITOR DE PAULA BRITO NASCIMENTO",{"$f":"'TURMA EXEMPLO'!D36","v":0},{"$f":"'TURMA EXEMPLO'!E36","v":0},{"$f":"'TURMA EXEMPLO'!F36","v":0},{"$f":"'TURMA EXEMPLO'!G36","v":0},{"$f":"'TURMA EXEMPLO'!H36","v":0},{"$f":"'TURMA EXEMPLO'!#REF!","v":{"$error":"#REF!"}},{"$f":"'TURMA EXEMPLO'!I36","v":0},{"$f":"'TURMA EXEMPLO'!J36","v":0},{"$f":"'TURMA EXEMPLO'!K36","v":0},null,{"$f":"'TURMA EXEMPLO'!M36","v":0}]
["2009.1.025.0530 ","LARA DEYZE SOUZA BRAGA",{"$f":"'TURMA EXEMPLO'!D37","v":0},{"$f":"'TURMA EXEMPLO'!E37","v":0},{"$f":"'TURMA EXEMPLO'!F37","v":0},{"$f":"'TURMA EXEMPLO'!G37","v":0},{"$f":"'TURMA EXEMPLO'!H37","v":0},{"$f":"'TURMA EXEMPLO'!#REF!","v":{"$error":"#REF!"}},{"$f":"'TURMA EXEMPLO'!I37","v":0},{"$f":"'TURMA EXEMPLO'!J37","v":0},{"$f":"'TURMA EXEMPLO'!K37","v":0},null,{"$f":"'TURMA EXEMPLO'!M37","v":0}]
["2009.1.025.0240 ","LARISSA ALVES CARRIÃO",{"$f":"'TURMA EXEMPLO'!D38","v":0},{"$f":"'TURMA EXEMPLO'!E38","v":0},{"$f":"'TURMA EXEMPLO'!F38","v":0},{"$f":"'TURMA EXEMPLO'!G38","v":0},{"$f":"'TURMA EXEMPLO'!H38","v":0},{"$f":"'TURMA EXEMPLO'!#REF!","v":{"$error":"#REF!"}},{"$f":"'TURMA EXEMPLO'!I38","v":0},{"$f":"'TURMA EXEMPLO'!J38","v":0},{"$f":"'TURMA EXEMPLO'!K38","v":0},null,{"$f":"'TURMA EXEMPLO'!M38","v":0}]
["2009.1.025.0869 ","LEANDRO ARAUJO BORGES",{"$f":"'TURMA EXEMPLO'!D39","v":0},{"$f":"'TURMA EXEMPLO'!E39","v":0},{"$f":"'TURMA EXEMPLO'!F39","v":0},{"$f":"'TURMA EXEMPLO'!G39","v":0},{"$f":"'TURMA EXEMPLO'!H39","v":0},{"$f":"'TURMA EXEMPLO'!#REF!","v":{"$error":"#REF!"}},{"$f":"'TURMA EXEMPLO'!I39","v":0},{"$f":"'TURMA EXEMPLO'!J39","v":0},{"$f":"'TURMA EXEMPLO'!K39","v":0},null,{"$f":"'TURMA EXEMPLO'!M39","v":0}]
["2009.1.025.0250 ","LEONARDO BERTINI",{"$f":"'TURMA EXEMPLO'!D40","v":0},{"$f":"'TURMA EXEMPLO'!E40","v":0},{"$f":"'TURMA EXEMPLO'!F40","v":0},{"$f":"'TURMA EXEMPLO'!G40","v":0},{"$f":"'TURMA EXEMPLO'!H40","v":0},{"$f":"'TURMA EXEMPLO'!#REF!","v":{"$error":"#REF!"}},{"$f":"'TURMA EXEMPLO'!I40","v":0},{"$f":"'TURMA EXEMPLO'!J40","v":0},{"$f":"'TURMA EXEMPLO'!K40","v":0},null,{"$f":"'TURMA EXEMPLO'!M40","v":0}]
["2007.1.025.2324 ","LORRAN DE CASTRO CONSTANT",{"$f":"'TURMA EXEMPLO'!D41","v":0},{"$f":"'TURMA EXEMPLO'!E41","v":0},{"$f":"'TURMA EXEMPLO'!F41","v":0},{"$f":"'TURMA EXEMPLO'!G41","v":0},{"$f":"'TURMA EXEMPLO'!H41","v":0},{"$f":"'TURMA EXEMPLO'!#REF!","v":{"$error":"#REF!"}},{"$f":"'TURMA EXEMPLO'!I41","v":0},{"$f":"'TURMA EXEMPLO'!J41","v":0},{"$f":"'TURMA EXEMPLO'!K41","v":0},null,{"$f":"'TURMA EXEMPLO'!M41","v":0}]
["2009.1.025.0259 ","LUANA ÂNGELO TEIXEIRA",{"$f":"'TURMA EXEMPLO'!D42","v":0},{"$f":"'TURMA EXEMPLO'!E42","v":0},{"$f":"'TURMA EXEMPLO'!F42","v":0},{"$f":"'TURMA EXEMPLO'!G42","v":0},{"$f":"'TURMA EXEMPLO'!H42","v":0},{"$f":"'TURMA EXEMPLO'!#REF!","v":{"$error":"#REF!"}},{"$f":"'TURMA EXEMPLO'!I42","v":0},{"$f":"'TURMA EXEMPLO'!J42","v":0},{"$f":"'TURMA EXEMPLO'!K42","v":0},null,{"$f":"'TURMA EXEMPLO'!M42","v":0}]
["2009.1.025.0273 ","LUIZ HENRIQUE CARVALHO DE MIRANDA FILHO",{"$f":"'TURMA EXEMPLO'!D43","v":0},{"$f":"'TURMA EXEMPLO'!E43","v":0},{"$f":"'TURMA EXEMPLO'!F43","v":0},{"$f":"'TURMA EXEMPLO'!G43","v":0},{"$f":"'TURMA EXEMPLO'!H43","v":0},{"$f":"'TURMA EXEMPLO'!#REF!","v":{"$error":"#REF!"}},{"$f":"'TURMA EXEMPLO'!I43","v":0},{"$f":"'TURMA EXEMPLO'!J43","v":0},{"$f":"'TURMA EXEMPLO'!K43","v":0},null,{"$f":"'TURMA EXEMPLO'!M43","v":0}]
["2008.1.025.2224 ","MARCO AURELIO MACEDO PAZ",{"$f":"'TURMA EXEMPLO'!D44","v":0},{"$f":"'TURMA EXEMPLO'!E44","v":0},{"$f":"'TURMA EXEMPLO'!F44","v":0},{"$f":"'TURMA EXEMPLO'!G44","v":0},{"$f":"'TURMA EXEMPLO'!H44","v":0},{"$f":"'TURMA EXEMPLO'!#REF!","v":{"$error":"#REF!"}},{"$f":"'TURMA EXEMPLO'!I44","v":0},{"$f":"'TURMA EXEMPLO'!J44","v":0},{"$f":"'TURMA EXEMPLO'!K44","v":0},null,{"$f":"'TURMA EXEMPLO'!M44","v":0}]
["2009.1.029.0032 ","MARCOS FLÁVIO RIBEIRO VALÉRIO JÚNIOR",{"$f":"'TURMA EXEMPLO'!D45","v":0},{"$f":"'TURMA EXEMPLO'!E45","v":0},{"$f":"'TURMA EXEMPLO'!F45","v":0},{"$f":"'TURMA EXEMPLO'!G45","v":0},{"$f":"'TURMA EXEMPLO'!H45","v":0},{"$f":"'TURMA EXEMPLO'!#REF!","v":{"$error":"#REF!"}},{"$f":"'TURMA EXEMPLO'!I45","v":0},{"$f":"'TURMA EXEMPLO'!J45","v":0},{"$f":"'TURMA EXEMPLO'!K45","v":0},null,{"$f":"'TURMA EXEMPLO'!M45","v":0}]
["2009.1.025.0304 ","MIRELLA TALITHA ROCHA",{"$f":"'TURMA EXEMPLO'!D46","v":0},{"$f":"'TURMA EXEMPLO'!E46","v":0},{"$f":"'TURMA EXEMPLO'!F46","v":0},{"$f":"'TURMA EXEMPLO'!G46","v":0},{"$f":"'TURMA EXEMPLO'!H46","v":0},{"$f":"'TURMA EXEMPLO'!#REF!","v":{"$error":"#REF!"}},{"$f":"'TURMA EXEMPLO'!I46","v":0},{"$f":"'TURMA EXEMPLO'!J46","v":0},{"$f":"'TURMA EXEMPLO'!K46","v":0},null,{"$f":"'TURMA EXEMPLO'!M46","v":0}]
["2009.1.025.0311 ","NAPHAYRA ANUSCA SOUSA ARAÚJO",{"$f":"'TURMA EXEMPLO'!D47","v":0},{"$f":"'TURMA EXEMPLO'!E47","v":0},{"$f":"'TURMA EXEMPLO'!F47","v":0},{"$f":"'TURMA EXEMPLO'!G47","v":0},{"$f":"'TURMA EXEMPLO'!H47","v":0},{"$f":"'TURMA EXEMPLO'!#REF!","v":{"$error":"#REF!"}},{"$f":"'TURMA EXEMPLO'!I47","v":0},{"$f":"'TURMA EXEMPLO'!J47","v":0},{"$f":"'TURMA EXEMPLO'!K47","v":0},null,{"$f":"'TURMA EXEMPLO'!M47","v":0}]
["2009.1.025.0936 ","RAFAEL LUCAS CAMELO BUENO UEHARA",{"$f":"'TURMA EXEMPLO'!D48","v":0},{"$f":"'TURMA EXEMPLO'!E48","v":0},{"$f":"'TURMA EXEMPLO'!F48","v":0},{"$f":"'TURMA EXEMPLO'!G48","v":0},{"$f":"'TURMA EXEMPLO'!H48","v":0},{"$f":"'TURMA EXEMPLO'!#REF!","v":{"$error":"#REF!"}},{"$f":"'TURMA EXEMPLO'!I48","v":0},{"$f":"'TURMA EXEMPLO'!J48","v":0},{"$f":"'TURMA EXEMPLO'!K48","v":0},null,{"$f":"'TURMA EXEMPLO'!M48","v":0}]
["2010.1.025.0343 ","RAFAELA CAROLINA RUIVO SANTOS",{"$f":"'TURMA EXEMPLO'!D49","v":0},{"$f":"'TURMA EXEMPLO'!E49","v":0},{"$f":"'TURMA EXEMPLO'!F49","v":0},{"$f":"'TURMA EXEMPLO'!G49","v":0},{"$f":"'TURMA EXEMPLO'!H49","v":0},{"$f":"'TURMA EXEMPLO'!#REF!","v":{"$error":"#REF!"}},{"$f":"'TURMA EXEMPLO'!I49","v":0},{"$f":"'TURMA EXEMPLO'!J49","v":0},{"$f":"'TURMA EXEMPLO'!K49","v":0},null,{"$f":"'TURMA EXEMPLO'!M49","v":0}]
["2010.1.025.0364 ","RICARDO COSTA MENDES",{"$f":"'TURMA EXEMPLO'!D50","v":0},{"$f":"'TURMA EXEMPLO'!E50","v":0},{"$f":"'TURMA EXEMPLO'!F50","v":0},{"$f":"'TURMA EXEMPLO'!G50","v":0},{"$f":"'TURMA EXEMPLO'!H50","v":0},{"$f":"'TURMA EXEMPLO'!#REF!","v":{"$error":"#REF!"}},{"$f":"'TURMA EXEMPLO'!I50","v":0},{"$f":"'TURMA EXEMPLO'!J50","v":0},{"$f":"'TURMA EXEMPLO'!K50","v":0},null,{"$f":"'TURMA EXEMPLO'!M50","v":0}]
["2009.1.025.0374 ","RODOLFO DE SOUZA LOPES",{"$f":"'TURMA EXEMPLO'!D51","v":0},{"$f":"'TURMA EXEMPLO'!E51","v":0},{"$f":"'TURMA EXEMPLO'!F51","v":0},{"$f":"'TURMA EXEMPLO'!G51","v":0},{"$f":"'TURMA EXEMPLO'!H51","v":0},{"$f":"'TURMA EXEMPLO'!#REF!","v":{"$error":"#REF!"}},{"$f":"'TURMA EXEMPLO'!I51","v":0},{"$f":"'TURMA EXEMPLO'!J51","v":0},{"$f":"'TURMA EXEMPLO'!K51","v":0},null,{"$f":"'TURMA EXEMPLO'!M51","v":0}]
["2009.1.025.0377 ","RODOLFO PROCÓPIO CHAGAS",{"$f":"'TURMA EXEMPLO'!D52","v":0},{"$f":"'TURMA EXEMPLO'!E52","v":0},{"$f":"'TURMA EXEMPLO'!F52","v":0},{"$f":"'TURMA EXEMPLO'!G52","v":0},{"$f":"'TURMA EXEMPLO'!H52","v":0},{"$f":"'TURMA EXEMPLO'!#REF!","v":{"$error":"#REF!"}},{"$f":"'TURMA EXEMPLO'!I52","v":0},{"$f":"'TURMA EXEMPLO'!J52","v":0},{"$f":"'TURMA EXEMPLO'!K52","v":0},null,{"$f":"'TURMA EXEMPLO'!M52","v":0}]
["2009.1.025.0573 ","RODRIGO MAGALHÃES PARAIZO BORGES",{"$f":"'TURMA EXEMPLO'!D53","v":0},{"$f":"'TURMA EXEMPLO'!E53","v":0},{"$f":"'TURMA EXEMPLO'!F53","v":0},{"$f":"'TURMA EXEMPLO'!G53","v":0},{"$f":"'TURMA EXEMPLO'!H53","v":0},{"$f":"'TURMA EXEMPLO'!#REF!","v":{"$error":"#REF!"}},{"$f":"'TURMA EXEMPLO'!I53","v":0},{"$f":"'TURMA EXEMPLO'!J53","v":0},{"$f":"'TURMA EXEMPLO'!K53","v":0},null,{"$f":"'TURMA EXEMPLO'!M53","v":0}]
["2009.1.025.0381 ","RODRIGO RODRIGUES VASCONCELOS",{"$f":"'TURMA EXEMPLO'!D54","v":0},{"$f":"'TURMA EXEMPLO'!E54","v":0},{"$f":"'TURMA EXEMPLO'!F54","v":0},{"$f":"'TURMA EXEMPLO'!G54","v":0},{"$f":"'TURMA EXEMPLO'!H54","v":0},{"$f":"'TURMA EXEMPLO'!#REF!","v":{"$error":"#REF!"}},{"$f":"'TURMA EXEMPLO'!I54","v":0},{"$f":"'TURMA EXEMPLO'!J54","v":0},{"$f":"'TURMA EXEMPLO'!K54","v":0},null,{"$f":"'TURMA EXEMPLO'!M54","v":0}]
["2009.1.025.0747 ","RÔNEY JOSÉ BARBOSA CÂNDIDO",{"$f":"'TURMA EXEMPLO'!D55","v":0},{"$f":"'TURMA EXEMPLO'!E55","v":0},{"$f":"'TURMA EXEMPLO'!F55","v":0},{"$f":"'TURMA EXEMPLO'!G55","v":0},{"$f":"'TURMA EXEMPLO'!H55","v":0},{"$f":"'TURMA EXEMPLO'!#REF!","v":{"$error":"#REF!"}},{"$f":"'TURMA EXEMPLO'!I55","v":0},{"$f":"'TURMA EXEMPLO'!J55","v":0},{"$f":"'TURMA EXEMPLO'!K55","v":0},null,{"$f":"'TURMA EXEMPLO'!M55","v":0}]
["2005.1.025.0459 ","SAMUELL JOAQUIM VALADARES E CARVALHO PIRES",{"$f":"'TURMA EXEMPLO'!D56","v":0},{"$f":"'TURMA EXEMPLO'!E56","v":0},{"$f":"'TURMA EXEMPLO'!F56","v":0},{"$f":"'TURMA EXEMPLO'!G56","v":0},{"$f":"'TURMA EXEMPLO'!H56","v":0},{"$f":"'TURMA EXEMPLO'!#REF!","v":{"$error":"#REF!"}},{"$f":"'TURMA EXEMPLO'!I56","v":0},{"$f":"'TURMA EXEMPLO'!J56","v":0},{"$f":"'TURMA EXEMPLO'!K56","v":0},null,{"$f":"'TURMA EXEMPLO'!M56","v":0}]
["2010.2.025.0207 ","STÉPHANE DE SOUSA PAULA",{"$f":"'TURMA EXEMPLO'!D57","v":0},{"$f":"'TURMA EXEMPLO'!E57","v":0},{"$f":"'TURMA EXEMPLO'!F57","v":0},{"$f":"'TURMA EXEMPLO'!G57","v":0},{"$f":"'TURMA EXEMPLO'!H57","v":0},{"$f":"'TURMA EXEMPLO'!#REF!","v":{"$error":"#REF!"}},{"$f":"'TURMA EXEMPLO'!I57","v":0},{"$f":"'TURMA EXEMPLO'!J57","v":0},{"$f":"'TURMA EXEMPLO'!K57","v":0},null,{"$f":"'TURMA EXEMPLO'!M57","v":0}]
["2009.1.025.0581 ","TAYNARA MIRELLE CORDEIRO RAMOS",{"$f":"'TURMA EXEMPLO'!D58","v":0},{"$f":"'TURMA EXEMPLO'!E58","v":0},{"$f":"'TURMA EXEMPLO'!F58","v":0},{"$f":"'TURMA EXEMPLO'!G58","v":0},{"$f":"'TURMA EXEMPLO'!H58","v":0},{"$f":"'TURMA EXEMPLO'!#REF!","v":{"$error":"#REF!"}},{"$f":"'TURMA EXEMPLO'!I58","v":0},{"$f":"'TURMA EXEMPLO'!J58","v":0},{"$f":"'TURMA EXEMPLO'!K58","v":0},null,{"$f":"'TURMA EXEMPLO'!M58","v":0}]
["2009.2.025.0307 ","THALLES TEIXEIRA NASCIMENTO OLIVEIRA MOTA",{"$f":"'TURMA EXEMPLO'!D59","v":0},{"$f":"'TURMA EXEMPLO'!E59","v":0},{"$f":"'TURMA EXEMPLO'!F59","v":0},{"$f":"'TURMA EXEMPLO'!G59","v":0},{"$f":"'TURMA EXEMPLO'!H59","v":0},{"$f":"'TURMA EXEMPLO'!#REF!","v":{"$error":"#REF!"}},{"$f":"'TURMA EXEMPLO'!I59","v":0},{"$f":"'TURMA EXEMPLO'!J59","v":0},{"$f":"'TURMA EXEMPLO'!K59","v":0},null,{"$f":"'TURMA EXEMPLO'!M59","v":0}]
["2010.2.025.0221 ","VICTOR PAIXÃO DIAS AQUINO MELO",{"$f":"'TURMA EXEMPLO'!D60","v":0},{"$f":"'TURMA EXEMPLO'!E60","v":0},{"$f":"'TURMA EXEMPLO'!F60","v":0},{"$f":"'TURMA EXEMPLO'!G60","v":0},{"$f":"'TURMA EXEMPLO'!H60","v":0},{"$f":"'TURMA EXEMPLO'!#REF!","v":{"$error":"#REF!"}},{"$f":"'TURMA EXEMPLO'!I60","v":0},{"$f":"'TURMA EXEMPLO'!J60","v":0},{"$f":"'TURMA EXEMPLO'!K60","v":0},null,{"$f":"'TURMA EXEMPLO'!M60","v":0}]
["2010.1.025.0410 ","VINÍCIUS ALMEIDA JORDÃO",{"$f":"'TURMA EXEMPLO'!D61","v":0},{"$f":"'TURMA EXEMPLO'!E61","v":0},{"$f":"'TURMA EXEMPLO'!F61","v":0},{"$f":"'TURMA EXEMPLO'!G61","v":0},{"$f":"'TURMA EXEMPLO'!H61","v":0},{"$f":"'TURMA EXEMPLO'!#REF!","v":{"$error":"#REF!"}},{"$f":"'TURMA EXEMPLO'!I61","v":0},{"$f":"'TURMA EXEMPLO'!J61","v":0},{"$f":"'TURMA EXEMPLO'!K61","v":0},null,{"$f":"'TURMA EXEMPLO'!M61","v":0}]
["2009.1.025.0422 ","VINÍCIUS CONFORTI PRUDENTE",{"$f":"'TURMA EXEMPLO'!D62","v":0},{"$f":"'TURMA EXEMPLO'!E62","v":0},{"$f":"'TURMA EXEMPLO'!F62","v":0},{"$f":"'TURMA EXEMPLO'!G62","v":0},{"$f":"'TURMA EXEMPLO'!H62","v":0},{"$f":"'TURMA EXEMPLO'!#REF!","v":{"$error":"#REF!"}},{"$f":"'TURMA EXEMPLO'!I62","v":0},{"$f":"'TURMA EXEMPLO'!J62","v":0},{"$f":"'TURMA EXEMPLO'!K62","v":0},null,{"$f":"'TURMA EXEMPLO'!M62","v":0}]
["2009.1.025.0683 ","WARLEY RAPHAEL PEREIRA MOTA",{"$f":"'TURMA EXEMPLO'!D63","v":0},{"$f":"'TURMA EXEMPLO'!E63","v":0},{"$f":"'TURMA EXEMPLO'!F63","v":0},{"$f":"'TURMA EXEMPLO'!G63","v":0},{"$f":"'TURMA EXEMPLO'!H63","v":0},{"$f":"'TURMA EXEMPLO'!#REF!","v":{"$error":"#REF!"}},{"$f":"'TURMA EXEMPLO'!I63","v":0},{"$f":"'TURMA EXEMPLO'!J63","v":0},{"$f":"'TURMA EXEMPLO'!K63","v":0},null,{"$f":"'TURMA EXEMPLO'!M63","v":0}]